Workbook
Name ____________________________________R: #REF!
Name ____________________________________R: #REF!
Name ____________________________________R: #REF!
Name ___________________________________R: #REF!
Name ___________________________________R: #REF!
Name ___________________________________R: #REF!
Name __________________________________R: #REF!
Name __________________________________R: #REF!
Name __________________________________R: #REF!
Name _________________________________R: 'PLAZOS EXOGENA'!#REF!
Name _________________________________R: #REF!
Name _________________________________R: #REF!
Name _________________________________R: #REF!
Name ________________________________R: 'PLAZOS EXOGENA'!#REF!
Name ________________________________R: #REF!
Name ________________________________R: #REF!
Name ________________________________R: #REF!
Name _______________________________R: 'PLAZOS EXOGENA'!#REF!
Name _______________________________R: #REF!
Name _______________________________R: #REF!
Name _______________________________R: #REF!
Name ______________________________R: 'PLAZOS EXOGENA'!#REF!
Name ______________________________R: #REF!
Name ______________________________R: #REF!
Name ______________________________R: #REF!
Name _____________________________R: 'PLAZOS EXOGENA'!#REF!
Name _____________________________R: #REF!
Name _____________________________R: #REF!
Name _____________________________R: #REF!
Name ____________________________R: 'PLAZOS EXOGENA'!#REF!
Name ____________________________R: #REF!
Name ____________________________R: #REF!
Name ____________________________R: #REF!
Name ___________________________R: 'PLAZOS EXOGENA'!#REF!
Name ___________________________R: #REF!
Name ___________________________R: #REF!
Name ___________________________R: #REF!
Name __________________________R: 'PLAZOS EXOGENA'!#REF!
Name __________________________R: #REF!
Name __________________________R: #REF!
Name __________________________R: #REF!
Name _________________________R: 'PLAZOS EXOGENA'!#REF!
Name _________________________R: #REF!
Name _________________________R: #REF!
Name _________________________R: #REF!
Name ________________________R: 'PLAZOS EXOGENA'!#REF!
Name ________________________R: #REF!
Name ________________________R: #REF!
Name ________________________R: #REF!
Name _______________________R: 'PLAZOS EXOGENA'!#REF!
Name _______________________R: #REF!
Name _______________________R: #REF!
Name _______________________R: #REF!
Name ______________________R: 'PLAZOS EXOGENA'!#REF!
Name ______________________R: #REF!
Name ______________________R: #REF!
Name ______________________R: #REF!
Name _____________________R: 'PLAZOS EXOGENA'!#REF!
Name _____________________R: #REF!
Name _____________________R: #REF!

Sheet LISTA H
B1: No. | C1: Nombre HOJAS | D1: DESCRIPCIÓN
B2: 1 | C2: {=IFERROR(RIGHT(INDEX(ListaHojas,ROWS(B$1:B1)),LEN(INDEX(ListaHojas,ROWS(B$1:B1)))-FIND("]",INDEX(ListaHojas,ROWS(B$1:B1)))),"")}
B3: 2 | C3: {=IFERROR(RIGHT(INDEX(ListaHojas,ROWS(B$1:B2)),LEN(INDEX(ListaHojas,ROWS(B$1:B2)))-FIND("]",INDEX(ListaHojas,ROWS(B$1:B2)))),"")} | D3: Hoja para Llevar el control de los formatos
B4: 3 | C4: 1001 | D4: =VLOOKUP(VALUE(RIGHT(C4,4)),Formatos!$A:$B,2,0) -> 1001(V-10) - Pagos o abonos en cuenta y retenciones practicadas
B5: 4 | C5: 1003 | D5: =VLOOKUP(VALUE(RIGHT(C5,4)),Formatos!$A:$B,2,0) -> 1003(V-7) - Retenciones en la fuente que le practicaron
B6: 5 | C6: 1004 | D6: =VLOOKUP(VALUE(RIGHT(C6,4)),Formatos!$A:$B,2,0) -> 1004(V-8) - Descuentos Tributarios Solicitados
B7: 6 | C7: 1005 | D7: =VLOOKUP(VALUE(RIGHT(C7,4)),Formatos!$A:$B,2,0) -> 1005(V-8) - Impuesto a las ventas por pagar-Descontable
B8: 7 | C8: 1006 | D8: =VLOOKUP(VALUE(RIGHT(C8,4)),Formatos!$A:$B,2,0) -> 1006(V-8) - Impuestos a las Ventas por Pagar (Generado) e Impuesto al Consumo
B9: 8 | C9: 1007 | D9: =VLOOKUP(VALUE(RIGHT(C9,4)),Formatos!$A:$B,2,0) -> 1007(V-9) - Ingresos recibidos
B10: 9 | C10: 1008 | D10: =VLOOKUP(VALUE(RIGHT(C10,4)),Formatos!$A:$B,2,0) -> 1008(V-7) - Saldos de cuentas por cobrar al 31 de diciembre
B11: 10 | C11: 1009 | D11: =VLOOKUP(VALUE(RIGHT(C11,4)),Formatos!$A:$B,2,0) -> 1009(V-7) - Saldos de cuentas por pagar al 31 de diciembre
B12: 11 | C12: 1010 | D12: =VLOOKUP(VALUE(RIGHT(C12,4)),Formatos!$A:$B,2,0) -> 1010(V-9) - Información de socios, accionistas, comuneros y/o cooperados
B13: 12 | C13: 1011 | D13: =VLOOKUP(VALUE(RIGHT(C13,4)),Formatos!$A:$B,2,0) -> 1011(V-6) - Información de las declaraciones Tributarias
B14: 13 | C14: 1012 | D14: =VLOOKUP(VALUE(RIGHT(C14,4)),Formatos!$A:$B,2,0) -> 1012(V-7) - Información de las declaraciones tributarias, acciones y aportes e inversiones en bonos, certificados, titulos y demas inversiones tributarias
B15: 14 | C15: 1056 | D15: =VLOOKUP(VALUE(RIGHT(C15,4)),Formatos!$A:$B,2,0) -> 1056(V-10) - Pagos o Abonos en cuenta y retenciones por secretarios generales que administran recursos del tesoro
... B20: 19 | C20: 2276 | D20: =VLOOKUP(VALUE(RIGHT(C20,4)),Formatos!$A:$B,2,0) -> 2276(V-4) - Información de Rentas de Trabajo y Pensiones
B21: 20 | C21: Formatos | D21: Todos los Formatos de Informantes AG-2024
B22: 21 | C22: Tablas | D22: Todas las tablas Utilizadas en los Formatos
B23: 22 | C23: Conceptos | D23: Todos los conceptos de los diferentes Formatos
B24: 23 | C24: Actividades económicas | D24: Lista de Actividades económicas
B25: 24 | C25: Códigos Mun-Deptos-Países | D25: Listado con códigos de Municipios, deptos y paises
B26: 25 | C26: Plazos | D26: Plazos
C27: Fuentes: | D27: Prevalidador Tributario Informantes AG2024
D28: Formato-Exogena-AG2025-q-se-presenta-en-2026-F-Basicos-1.xlsx
D29: William Dussan
D30: https://normograma.dian.gov.co/dian/compilacion/docs/resolucion_dian_0162_2023.htm
D32: Resolución 000227 (Título 3) de 23-09-2025 MODIFICA Resolución 162.pdf
D33: Desde la página 62 hasta la 157

Sheet Lista y Control Envio
D1: EMPRESA LA BERRAQUERA S.A.S. | E1: Personas Jurídicas y Nat | G1: VENCE | H1: =IF(D2="","",IF(E1="Personas Jurídicas y Nat",J1,J2)) -> 46169 | I1: =RIGHT($D$2,2) -> 45 | J1: =VLOOKUP(I1,'PLAZOS EXOGENA'!$B$3:$C$102,2,0) -> 46169
B2: NIT: | D2: 900000145 | I2: =RIGHT($D$2,1) -> 5 | J2: =VLOOKUP(VALUE(I2),'PLAZOS EXOGENA'!$F$7:$G$16,2,0) -> 46148
E3: =CONCATENATE("Cantidad de Formatos Diligenciados"," ",SUM(F6:F30)) -> Cantidad de Formatos Diligenciados 0 | G3: =CONCATENATE(COUNT(B6:B1048576)," ","Formatos") -> 17 Formatos | H3: =IF(H4="Presentada","Qué bien!",IF(H1="","",IF(H1-TODAY()<0,"… Ya Venció ...",CONCATENATE("Faltan ...",H1-TODAY()," ","dias.")))) -> Faltan ...46 dias.
B4: CONTROL PRESENTACION FORMATOS | H4: Elaboracion
B5: N° | D5: Formato | E5: Cantidad de Registros | G5: Envío N° | L5: 1
B6: =IF(D6="","",1) -> 1 | D6: 1001 (V-10) - Pagos o abonos en cuenta y retenciones practicadas | E6: =COUNTA('F1001'!B15:B17,'F1001'!B15:B17>0)-1 -> 0 | F6: =IF(E6>0,COUNT(E6),"")
B7: =IF(D7="","",B6+1) -> 2 | D7: 1003 (V-7) - Retenciones en la fuente que le practicaron | E7: =COUNTA('F1003'!B15:B17,'F1003'!B15:B17>0)-1 -> 0 | F7: =IF(E7>0,COUNT(E7),"")
B8: =IF(D8="","",B7+1) -> 3 | D8: 1004 (V-8) - Descuentos Tributarios Solicitados | E8: =COUNTA('F1004'!B15:B18,'F1004'!B15:B18>0)-1 -> 0 | F8: =IF(E8>0,COUNT(E8),"")
B9: =IF(D9="","",B8+1) -> 4 | D9: 1005 (V-8) - Impuesto a las ventas por pagar-Descontable | E9: =COUNTA('F1005'!B15:B17,'F1005'!B15:B17>0)-1 -> 0 | F9: =IF(E9>0,COUNT(E9),"")
B10: =IF(D10="","",B9+1) -> 5 | D10: 1006 (V-8) - Impuestos a las Ventas por Pagar (Generado) e Impuesto al Consumo | E10: =COUNTA('F1006'!B15:B17,'F1006'!B15:B17>0)-1 -> 0 | F10: =IF(E10>0,COUNT(E10),"")
B11: =IF(D11="","",B10+1) -> 6 | D11: 1007 (V-9) - Ingresos recibidos | E11: =COUNTA('F1007'!B15:B17,'F1007'!B15:B17>0)-1 -> 0 | F11: =IF(E11>0,COUNT(E11),"")
B12: =IF(D12="","",B11+1) -> 7 | D12: 1008 (V-7) - Saldos de cuentas por cobrar al 31 de diciembre | E12: =COUNTA('F1008'!B15:B18,'F1008'!B15:B18>0)-1 -> 0 | F12: =IF(E12>0,COUNT(E12),"")
B13: =IF(D13="","",B12+1) -> 8 | D13: 1009 (V-7) - Saldos de cuentas por pagar al 31 de diciembre | E13: =COUNTA('F1009'!B15:B17,'F1009'!B15:B17>0)-1 -> 0 | F13: =IF(E13>0,COUNT(E13),"")
B14: =IF(D14="","",B13+1) -> 9 | D14: 1010 (V-9) - Información de socios, accionistas, comuneros y/o cooperados | E14: =COUNTA('F1010'!B15:B17,'F1010'!B15:B17>0)-1 -> 0 | F14: =IF(E14>0,COUNT(E14),"")
B15: =IF(D15="","",B14+1) -> 10 | D15: 1011 (V-6) - Información de las declaraciones Tributarias | E15: =COUNTA('F1011'!B15:B18,'F1011'!B15:B18>0)-1 -> 0 | F15: =IF(E15>0,COUNT(E15),"")
B16: =IF(D16="","",B15+1) -> 11 | D16: 1012 (V-7) - Información de las declaraciones tributarias, acciones y aportes e inversiones en bonos, certificados, titulos y demas inversiones tributarias | E16: =COUNTA('F1012'!B15:B17,'F1012'!B15:B17>0)-1 -> 0 | F16: =IF(E16>0,COUNT(E16),"")
B17: =IF(D17="","",B16+1) -> 12 | D17: 1056 (V-10) - Pagos o Abonos en cuenta y retenciones por secretarios generales que administran recursos del tesoro | E17: =COUNTA('F1056'!B15:B18,'F1056'!B15:B18>0)-1 -> 0 | F17: =IF(E17>0,COUNT(E17),"")
B18: =IF(D18="","",B17+1) -> 13 | D18: 1647 (V-2) - Ingresos recibidos para terceros | E18: =COUNTA('F1647'!B15:B18,'F1647'!B15:B18>0)-1 -> 0 | F18: =IF(E18>0,COUNT(E18),"")
B19: =IF(D19="","",B18+1) -> 14 | D19: 2275 (V-2) - Ingresos No Constitutivos de Renta Ni Ganancia Ocasional | E19: =COUNTA('F2275'!B15:B18,'F2275'!B15:B18>0)-1 -> 0 | F19: =IF(E19>0,COUNT(E19),"")
B20: =IF(D20="","",B19+1) -> 15 | D20: 2276 (V-4) - Información de Rentas de Trabajo y Pensiones | E20: =COUNTA('F2276'!C15:C20,'F2276'!C15:C20>0)-1 -> 0 | F20: =IF(E20>0,COUNT(E20),"")
B21: =IF(D21="","",B20+1) -> 16 | D21: 2278 (V-1) - Compra de bonos electrónicos o papel de servicio, cheques o vales para beneficio de los trabajadores | E21: =COUNTA('F2278'!B15:B17,'F2278'!B15:B17>0)-1 -> 0 | F21: =IF(E21>0,COUNT(E21),"")
B22: =IF(D22="","",B21+1) -> 17 | D22: 5253 (V-2) - Información de beneficiarios efectivos | E22: =COUNTA('F5253'!B15:B17,'F5253'!B15:B17>0)-1 -> 0 | F22: =IF(E22>0,COUNT(E22),"")
D23: Tipo de Documento | E23: =CONCATENATE("Total Registros Enviados"," ",SUM(E6:E22)) -> Total Registros Enviados 0
D24: Formatos
D25: Tablas
D26: Conceptos
D27: Actividad Económica
D28: Códigos Mun-Deptos-Países
D29: Plazos Exógena
D30: PUC Exógena
D33: Páginas - Prevalidadores Informacion Tributaria
D36: NORMATIVIDAD APLICABLE
D37: Resolución Única 00227 del 23 de septiembre de 2025
D38: Resolución 0233 del 30 de octubre de 2025

Sheet F1001
A1: 20 | B1: *24 | C1: *25 | D1: *26 | E1: 27 | F1: 28 | G1: 29 | H1: 30 | I1: 31 | J1: 32 | K1: 33 | L1: 34 | M1: 35 | N1: 36 | O1: 37 | P1: 38 | Q1: 39 | R1: 40 | S1: 41 | T1: 42 | U1: 43
A2: 15 | B2: Concepto | C2: Tipo de documento | D2: Número identificación | E2: Primer apellido del informado | F2: Segundo apellido del informado | G2: Primer nombre del informado | H2: Otros nombres del informado | I2: Razón social informado | J2: Dirección | K2: Código dpto | L2: Código mcp | M2: País de Residencia o domicilio | N2: Pago o abono en cuenta deducible | O2: Pago o abono en cuenta NO deducible | P2: IVA mayor valor del costo o gasto, deducible | Q2: IVA mayor valor del costo o gasto no deducible | R2: Retención en la fuente practicada Renta | S2: Retención en la fuente asumida Renta | T2: Retención en la fuente practicada IVA a responsables del IVA | U2: Retención en la fuente practicada IVA a no residentes o no domiciliados
A3: 15 | B3: N | C3: N | D3: A | E3: A | F3: A | G3: A | H3: A | I3: A | J3: A | K3: N | L3: N | M3: N | N3: N | O3: N | P3: N | Q3: N | R3: N | S3: N | T3: N | U3: N
B4: 4 | C4: 2 | D4: 20 | E4: 60 | F4: 60 | G4: 60 | H4: 60 | I4: 450 | J4: 200 | K4: 2 | L4: 3 | M4: 4 | N4: 18 | O4: 18 | P4: 18 | Q4: 18 | R4: 18 | S4: 18 | T4: 18 | U4: 18
A5: B | B5: S | C5: S | D5: S | E5: N | F5: N | G5: N | H5: N | I5: N | J5: N | K5: N | L5: N | M5: S | N5: S | O5: S | P5: S | Q5: S | R5: S | S5: S | T5: S | U5: S
A6: 4 | B6: DConcepto3 | C6: DTiposDocto | K6: D_2_108 | L6: D_2_109 | M6: D_2_107
B7: Seleccione el concepto por el cual efectuó el pago o abono en cuenta. | C7: Seleccione el tipo de documento de identificación que posee el informado. Cuando vaya a informar cuantías menores o personas o entidades del exterior, Utilice el tipo de Documento 43. Si la Persona o Entidad del exterior, tiene Número, Código o Clave Fiscal, Utilice 42. | D7: Indique el número de identificación que corresponda al beneficiario del pago informado. Si es por cuantías menores indique el Nit 222222222. Cuando sean transacciones con personas o entidades del exterior que no posea Número, Código o Clave Fiscal deberá informarse con Nit 444444001 aumentando en una unidad cada relacionado hasta el 444449999. | E7: Indique el primer apellido del beneficiario del pago. Si es una persona jurídica, deje este espacio en blanco. | F7: Indique el segundo apellido del beneficiario del pago. Si no tiene segundo apellido o es una persona jurídica, deje este espacio en blanco | G7: Indique el primer nombre del beneficiario del pago. Si es una persona jurídica, deje este espacio en blanco. | H7: Indique el segundo nombre u otros nombres del beneficiario del pago. Si no tiene más nombres o es una persona jurídica, deje este espacio en blanco. | I7: Indique la razón social del beneficiario del pago. Si es una persona natural, deje la casilla en blanco. Utilice "Cuantías menores" cuando el Nit sea 222222222 y la razón social o nombre que corresponda para Nits 444444001 en adelante. | J7: Relacione la dirección del beneficiario del pago o abono en cuenta informado. Cuando se refiera a cuantías menores indique la dirección del informante. Cuando se refiera a personas o entidades del exterior la dirección, no se diligencia. | K7: Seleccione el departamento al cual pertenece la dirección informada, conforme con los códigos indicados en las tablas del Dane, se deben incluir los ceros a la izquierda. Para personas o entidades del exterior este campo no se diligencia. | L7: Seleccione el municipio correspondiente a la dirección informada, conforme con los códigos indicados por el Dane, se deben incluir los ceros a la izquierda. Para personas o entidades del exterior este campo no se diligencia. | M7: Seleccione el código del país al cual pertenece el informado. | N7: Digite los pagos o abonos en cuenta (causación) que constituyan costo o deducción o den derecho a impuesto descontable por beneficiario correspondiente al año gravable informado. | O7: Informe el Valor de los Pagos o Abonos en cuenta (causación) NO solicitados Fiscalmente como costo o Deducción | P7: Informe el valor del IVA que llevo como Mayor Valor del Costo y solicitado como Deducible. | Q7: Informe el valor del IVA que llevo como mayor valor del costo y NO solicitado como Deducible | R7: Informe el valor de la Retencion en la Fuente Practicada a Titulo de Renta. | S7: Informe el valor de la Retencion en la Fuente Asumida a Titulo de Renta. | T7: Informe el valor de la Retención en la fuente practicada IVA a responsables del IVA. | U7: Informe el valor de la Retención en la fuente practicada IVA a no residentes o no domiciliados.
A8: ColPadre
A9: ValEsp | D9: E0064 | E9: E0141(31) | F9: E0143 | G9: E0141(31) | H9: E0143 | I9: E0142(27|29) | J9: E0074(8) | K9: E0075 | L9: E0076 | M9: E0087 | N9: E0130(37|38|39|40|41|42|43) | O9: E0118 | P9: E0118 | Q9: E0118 | R9: E0118 | S9: E0118 | T9: E0118 | U9: E0118 | V9: |Concepto - Este campo es obligatorio|Tipo de documento - Este campo es obligatorio|Número identificación - El campo debe ser numérico, no utilice puntos(.), ni comas(,)|DV - Este campo debe ser numérico mayor a 0, no utilice puntos(.), ni comas(,) - La longitud excede el maximo de 1 caracter. - El Digito de Verificación solamente se debe diligenciar si el Tipo de Documento 31 - NIT|Dirección - Esta casilla no debe diligenciarse si su pais de residencia es diferente a Colombia.|Código dpto - Este campo debe ser numérico mayor a 0, no utilice puntos(.), ni comas(,) - La longitud excede el maximo de 2 caracteres. - El código diligenciado no coincide con la tabla. - Esta casilla no debe diligenciarse si su pais de residencia es diferente a Colombia.|Código mcp - Este campo debe ser numérico mayor a 0, no utilice puntos(.), ni comas(,) - La longitud excede el maximo de 3 caracteres. - Valor no valido para este campo - Esta casilla no debe diligenciarse si su pais de residencia es diferente a Colombia.|País de Residencia o domicilio - Este campo debe ser numérico mayor a 0, no utilice puntos(.), ni comas(,) - La longitud excede el maximo de 4 caracteres. - El código diligenciado no coincide con la tabla.|Pago o abono en cuenta deducible - Este campo debe ser numérico mayor a 0, no utilice puntos(.), ni comas(,)|Pago o abono en cuenta NO deducible - Este campo debe ser numérico mayor a 0, no utilice puntos(.), ni comas(,)|IVA mayor valor del costo o gasto deducible - Este campo debe ser numérico mayor a 0, no utilice puntos(.), ni comas(,) - El valor ingresado no es numerico.|IVA mayor valor del costo o gasto NO deducible - Este campo debe ser numérico mayor a 0, no utilice puntos(.), ni comas(,) - El valor ingresado no es numerico.|Retención en la fuente practicada Renta - Este campo es obligatorio|Retención en la fuente asumida Renta - Este campo debe ser numérico mayor a 0, no utilice puntos(.), ni comas(,) - El valor ingresado no es numerico.|Retención en la fuente practicada IVA Régimen Común - Este campo debe ser numérico mayor a 0, no utilice puntos(.), ni comas(,) - El valor ingresado no es numerico.|Retención en la fuente asumida IVA Régimen Simplificado - Este campo es obligatorio|Retención en la fuente practicada IVA NO domiciliados - Este campo es obligatorio|Retención en la fuente practicadas CREE - Este campo es obligatorio|Retención en la fuente asumidas CREE - Este campo es obligatorio
A10: pagos | B10: cpt | C10: tdoc | D10: nid | E10: apl1 | F10: apl2 | G10: nom1 | H10: nom2 | I10: raz | J10: dir | K10: dpto | L10: mun | M10: pais | N10: pago | O10: pnded | P10: ided | Q10: inded | R10: retp | S10: reta | T10: comun | U10: ndom | V10: |Concepto - Este campo debe ser numérico mayor o igual a 0, no utilice puntos(.), ni comas(,) - El código diligenciado no coincide con la tabla.|Tipo de documento - Este campo debe ser numérico mayor o igual a 0, no utilice puntos(.), ni comas(,) - La longitud excede el maximo de 2 caracteres. - El código diligenciado no coincide con la tabla.|Número identificación - El campo debe ser numérico, no utilice puntos(.), ni comas(,)|DV - Este campo debe ser numérico mayor o igual a 0, no utilice puntos(.), ni comas(,) - La longitud excede el maximo de 1 caracter. - El Digito de Verificación solamente se debe diligenciar si el Tipo de Documento 31 - NIT|Dirección - Esta casilla no debe diligenciarse si su pais de residencia es diferente a Colombia.|Código dpto - Este campo debe ser numérico mayor o igual a 0, no utilice puntos(.), ni comas(,) - La longitud excede el maximo de 2 caracteres. - El código diligenciado no coincide con la tabla. - Esta casilla no debe diligenciarse si su pais de residencia es diferente a Colombia.|Código mcp - Este campo debe ser numérico mayor o igual a 0, no utilice puntos(.), ni comas(,) - Valor no valido para este campo - Esta casilla no debe diligenciarse si su pais de residencia es diferente a Colombia.|País de Residencia o domicilio - Este campo debe ser numérico mayor o igual a 0, no utilice puntos(.), ni comas(,) - El código diligenciado no coincide con la tabla.|Pago o abono en cuenta deducible - Este campo debe ser numérico mayor o igual a 0, no utilice puntos(.), ni comas(,)|Pago o abono en cuenta NO deducible - Este campo debe ser numérico mayor o igual a 0, no utilice puntos(.), ni comas(,)|IVA mayor valor del costo o gasto deducible - Este campo debe ser numérico mayor o igual a 0, no utilice puntos(.), ni comas(,) - El valor ingresado no es numerico.|IVA mayor valor del costo o gasto NO deducible - Este campo debe ser numérico mayor o igual a 0, no utilice puntos(.), ni comas(,) - El valor ingresado no es numerico.|Retención en la fuente practicada Renta - Este campo debe ser numérico mayor o igual a 0, no utilice puntos(.), ni comas(,)|Retención en la fuente asumida Renta - Este campo debe ser numérico mayor o igual a 0, no utilice puntos(.), ni comas(,) - El valor ingresado no es numerico.|Retención en la fuente practicada IVA Régimen Común - Este campo debe ser numérico mayor o igual a 0, no utilice puntos(.), ni comas(,) - El valor ingresado no es numerico.|Retención en la fuente asumida IVA Régimen Simplificado - Este campo debe ser numérico mayor o igual a 0, no utilice puntos(.), ni comas(,)|Retención en la fuente practicada IVA NO domiciliados - Este campo debe ser numérico mayor o igual a 0, no utilice puntos(.), ni comas(,)|Retención en la fuente practicadas CREE - Este campo debe ser numérico mayor o igual a 0, no utilice puntos(.), ni comas(,)|Retención en la fuente asumidas CREE - Este campo debe ser numérico mayor o igual a 0, no utilice puntos(.), ni comas(,)
B11: 1001 | D11: 1001 Pagos o abonos en cuenta y retenciones practicadas | J11: 1001
B14: =B2 -> Concepto | C14: =C2 -> Tipo de documento | D14: =D2 -> Número identificación | E14: =E2 -> Primer apellido del informado | F14: =F2 -> Segundo apellido del informado | G14: =G2 -> Primer nombre del informado | H14: =H2 -> Otros nombres del informado | I14: =I2 -> Razón social informado | ... O14: =O2 -> Pago o abono en cuenta NO deducible | P14: IVA mayor valor del costo o gasto, deducible | Q14: =Q2 -> IVA mayor valor del costo o gasto no deducible | R14: =R2 -> Retención en la fuente practicada Renta | S14: =S2 -> Retención en la fuente asumida Renta | T14: =T2 -> Retención en la fuente practicada IVA a responsables del IVA | U14: =U2 -> Retención en la fuente practicada IVA a no residentes o no domiciliados
N18: =SUM(N15:N17) -> 0 | O18: =SUM(O15:O17) -> 0 | P18: =SUM(P15:P17) -> 0 | Q18: =SUM(N18:P18) -> 0
Q19: =SUM(N18:O18) -> 0
B24: Tipos de documentos
C25: 11 | D25: Registro civil de nacimiento | H25: UVT 2025 | I25: 49799 | J25: 3 | K25: UVT | M25: =+I25*J25 -> 149397
C26: 12 | D26: Tarjeta de identidad | H26: PARÁGRAFO 1o. El valor mínimo a reportar por cada beneficiario de un pago o abono en cuenta es de tres (3) Unidades de Valor Tributario (UVT) (del año gravable a reportar), sin perjuicio que al discriminar el pago por concepto los valores a reportar sean menores
C27: 13 | D27: Cédula de ciudadanía
C28: 21 | D28: Tarjeta de extranjería
C29: 22 | D29: Cédula de extranjería | H29: Los pagos que acumulados por beneficiario por todo concepto sean menores a tres (3) Unidades de Valor Tributario (UVT) (del año gravable a reportar), se informarán acumulados en un solo registro, con identificación 222222222, razón social “CUANTÍAS MENORES” y tipo documento 43, en el concepto a que correspondan, reportando la dirección del informante
C30: 31 | D30: Nit
C31: 41 | D31: Pasaporte
C32: 42 | D32: Tipo de documento Extranjero
C33: 43 | D33: Sin identificación del exterior o para uso definido por la DIAN | I33: Sin embargo, a opción del informante, podrán reportarse pagos o abonos en cuenta menores a dicha cuantía, identificando al tercero cumpliendo con las especificaciones técnicas establecidas
C34: 47 | D34: Permiso Especial de Permanencia
C35: 48 | D35: Permiso por Protección Temporal
I36: Todos los pagos o abonos en cuenta sujetos a retención en la fuente, independiente de su cuantía, se deben reportar identificando al tercero.
B38: Conceptos | D38: Los resaltados en color verde son conceptos nuevos para este año gravable 2025
B39: 5002 | C39: Honorarios
B40: 5003 | C40: Comisiones
B41: 5004 | C41: Servicios
B42: 5005 | C42: Arrendamientos
B43: 5006 | C43: Intereses y rendimientos financieros causados
B44: 5007 | C44: Compra de activos movibles (E.T.Art 60)
B45: 5008 | C45: Compra de Activos Fijos (E.T. Art 60)
B46: 5010 | C46: Pagos o Abonos en cuenta por concepto de aportes parafiscales al SENA, a las Cajas de Compensación Familiar y al Instituto Colombiano de Bienestar Familiar
B47: 5011 | C47: Pagos o abonos en cuenta efectuado a las empresas promotoras de salud EPS y los aportes al Sistema de Riesgos Laborales, incluidos los aportes del trabajador
B48: 5012 | C48: Pagos o abonos en cuenta por concepto de aportes obligatorios para pensiones efectuados a los Fondos de Pensiones, incluidos los aportes del trabajador
B49: 5013 | C49: Donaciones en dinero efectuadas a las entidades señaladas en los artículos 125, 125-4,126-2 y 158-1 del Estatuto Tributario y la establecida en el artículo 16 de la Ley 814 de 2003, y demás que determine la ley
B50: 5014 | C50: Donaciones en activos diferentes a dinero efectuadas a las entidades señaladas en los artículos 125, 125-4,126-2 y 158-1 del Estatuto Tributario y la establecida en el artículo 16 de la Ley 814 de 2003, y demás que determine la ley
...

Sheet F1003
A1: 14 | B1: *24 | C1: *25 | D1: *26 | E1: 27 | F1: 28 | G1: 29 | H1: 30 | I1: 31 | J1: 32 | K1: 33 | L1: 34 | M1: 35 | N1: 36 | O1: 37
A2: 15 | B2: Concepto | C2: Tipo de documento | D2: Número identificación del informado | E2: DV | F2: Primer apellido del informado | G2: Segundo apellido del informado | H2: Primer nombre del informado | I2: Otros nombres del informado | J2: Razón social informado | K2: Dirección | L2: Código del Departamento | M2: Código del Municipio | N2: Valor acumulado del pago o abono sujeto a Retención en la fuente | O2: Retención que le practicaron
A3: 15 | B3: N | C3: N | D3: A | E3: N | F3: A | G3: A | H3: A | I3: A | J3: A | K3: A | L3: N | M3: N | N3: N | O3: N
B4: 4 | C4: 2 | D4: 20 | E4: 1 | F4: 60 | G4: 60 | H4: 60 | I4: 60 | J4: 450 | K4: 200 | L4: 2 | M4: 3 | N4: 20 | O4: 20
A5: O | B5: S | C5: S | D5: S | E5: N | F5: N | G5: N | H5: N | I5: N | J5: N | K5: S | L5: S | M5: S | N5: S | O5: S
A6: 4 | B6: DConcepto5 | C6: DTiposDoctoBB | L6: D_2_108 | M6: D_2_109
B7: Seleccione el concepto por el cual le efectuaron la retención en la fuente a informar. | C7: Seleccione el tipo de documento de identificación que posee la persona o entidad que le realizó la retención en la fuente. | D7: Indique el número de identificación del informado. Si el tipo de documento seleccionado es pasaporte (41) o Documento extranjero (42) podrá incluir datos alfanuméricos. | E7: Si el número de identificación informado es un NIT, relacione el dígito de verificación respectivo. | F7: Indique el primer apellido de la persona que le practicó la retención en la fuente. Si es una persona jurídica, deje este espacio en blanco. | G7: Indique el segundo apellido de la persona que le practicó la retención en la fuente. Si no tiene segundo apellido o es una persona jurídica, deje este espacio en blanco. | H7: Indique el primer nombre de la persona que le practicó la retención en la fuente. Si es una persona jurídica, deje este espacio en blanco. | I7: Indique el segundo nombre u otros nombres de la persona que le practicó la retención en la fuente. Si no tiene más nombres o es una persona jurídica, deje este espacio en blanco. | J7: Informe la razón social de la entidad que le practicó la retención en la fuente. Si el retenedor es una persona natural, deje esta casilla en blanco. | K7: Ingrese la dirección | L7: Seleccione el Código del Departamento. | M7: Seleccione el municipio luego de haber indicado el Departamento. | N7: Relacione el valor acumulado del pago o abono en cuenta, de las transacciones sobre las cuales le practicó retención el informado durante el año gravable informado. | O7: Relacione el valor total de la retención en la fuente que le practicó el informado durante el año gravable informado.
A8: ColPadre
A9: ValEsp | D9: E0050 | E9: E0012 | F9: E0003 | G9: E0054 | H9: E0003 | I9: E0054 | J9: E0004 | K9: E0100 | N9: E0066 | O9: E0027
A10: rets | B10: cpt | C10: tdoc | D10: nid | E10: dv | F10: apl1 | G10: apl2 | H10: nom1 | I10: nom2 | J10: raz | K10: dir | L10: dpto | M10: mcpo | N10: valor | O10: ret
B11: 1003 | D11: 1003 Retenciones en la fuente que le practicaron
B14: =B2 -> Concepto | C14: =C2 -> Tipo de documento | D14: =D2 -> Número identificación del informado | E14: =E2 -> DV | F14: =F2 -> Primer apellido del informado | G14: =G2 -> Segundo apellido del informado | H14: =H2 -> Primer nombre del informado | I14: =I2 -> Otros nombres del informado | ... O14: =O2 -> Retención que le practicaron
A17: =CONCATENATE(B17,"|",C17,"|",D17) -> ||
B22: Conceptos
B23: 1301 | C23: Retenciones por salarios y demàs pagos laborales
B24: 1302 | C24: Retenciones por ventas
B25: 1303 | C25: Retenciones por Servicios
B26: 1304 | C26: Retenciones por Honorarios
B27: 1305 | C27: Retenciones por Comisiones
B28: 1306 | C28: Retenciones por Intereses y Rendimientos Financieros
B29: 1307 | C29: Retenciones por Arrendamientos
B30: 1308 | C30: Retencion por Otros conceptos
B31: 1309 | C31: Retención en la fuente en el Impuesto a las ventas. | G31: Nota: El valor a reportar como base de la retención corresponde al valor de IVA y no al valor del pago o abono en cuenta.
B32: 1310 | C32: Retención por dividendos y participaciones
B33: 1311 | C33: Retención por enajenación de activos fijos de personas naturales ante oficinas de tránsito y otras entidades autorizadas
B34: 1312 | C34: Retención por ingresos de tarjetas débito y crédito
B35: 1313 | C35: Retención por loterías, rifas, apuestas y similares
B36: 1314 | C36: Retención por Impuesto de Timbre
B37: 1320 | C37: Retención por dividendos y participaciones recibidas por sociedades nacionales art. 242-1 del E.T.
B40: Tipos de documentos
C41: 11 | D41: Registro civil de nacimiento
C42: 12 | D42: Tarjeta de identidad
C43: 13 | D43: Cédula de ciudadanía
C44: 21 | D44: Tarjeta de extranjería
C45: 22 | D45: Cédula de extranjería
C46: 31 | D46: Nit
C47: 41 | D47: Pasaporte
C48: 42 | D48: Tipo de documento Extranjero
C49: 43 | D49: Sin identificación del exterior o para uso definido por la DIAN
C50: 47 | D50: Permiso Especial de Permanencia
...

Sheet F1004
A1: 15 | B1: *24 | C1: *25 | D1: *26 | E1: 27 | F1: 28 | G1: 29 | H1: 30 | I1: 31 | J1: 32 | K1: 33 | L1: 34 | M1: 35 | N1: 36 | O1: 37 | P1: 38
A2: 15 | B2: Concepto | C2: Tipo de documento del Tercero | D2: Número de Identificación del Tercero | E2: Primer apellido | F2: Segundo apellido | G2: Primer nombre | H2: Otros nombres | I2: Razón Social | J2: Dirección | K2: Código dpto | L2: Código mcp | M2: Código País | N2: Buzón, correo o dirección electrónicos | O2: Valor del descuento tributario total del año | P2: Valor del descuento tributario efectivamente solicitado en el año gravable
A3: 15 | B3: N | C3: N | D3: A | E3: A | F3: A | G3: A | H3: A | I3: A | J3: A | K3: A | L3: A | M3: A | N3: A | O3: N | P3: N
B4: 4 | C4: 2 | D4: 20 | E4: 60 | F4: 60 | G4: 60 | H4: 60 | I4: 450 | J4: 250 | K4: 2 | L4: 3 | M4: 4 | N4: 50 | O4: 18 | P4: 18
A5: C | B5: S | C5: S | D5: S | E5: N | F5: N | G5: N | H5: N | I5: N | J5: N | K5: N | L5: N | M5: S | N5: N | O5: S | P5: S
A6: 4 | B6: DConcepto9 | C6: DTiposDocto | K6: D_2_108 | L6: D_2_109 | M6: D_2_107
B7: Seleccione el codigo concepto al cual pertecene el descuento tributario | C7: Selección el Tipo de Documento del tercero | D7: Indique el numero de Identificacion del tercero | E7: Indique el Primer Apellido del tercero . Si es una persona jurídica, deje este espacio en blanco | F7: Indique el Primer Apellido del tercero. Si no tiene segundo apellido o si es una persona jurídica, deje este espacio en blanco | G7: Indique el Primer Nombre del tercero . Si es una persona jurídica, deje este espacio en blanco | H7: Indique el Otro Nombre del tercero. Si no tiene otro nombre o si es una persona jurídica, deje este espacio en blanco | I7: Indique la razón social del Tercero. Si es una persona natural, deje la casilla en blanco. | J7: Indique la dirreccion del tercero que esta informando | K7: Seleccione el codigo departamento de la direccion informada | L7: Seleccione el codigo municipio de la direccion informada | M7: Seleccióne el codgo del pais del tercero informado | N7: Indique el correo electronico | O7: Informe el valor del Pago o abono en CTA | P7: Informe el valor del descuento tributario
A8: ColPadre
A9: ValEsp | D9: E0149 | E9: E0072(31) | F9: E0054 | G9: E0072(31) | H9: E0054 | I9: E0073(27|29) | J9: E0131(35|169|8) | K9: E0075 | L9: E0076 | M9: E0087 | N9: E0147 | O9: E0120 | P9: E0146
A10: descuentos | B10: cpt | C10: tdoc | D10: nit | E10: pap | F10: sap | G10: pno | H10: ono | I10: raz | J10: dir | K10: dpto | L10: mun | M10: pais | N10: email | O10: vdesc | P10: vdescsol
D11: 1004 INFORMACION DESCUENTOS TRIBUTARIOS SOLICITADOS
B14: =B2 -> Concepto | C14: =C2 -> Tipo de documento del Tercero | D14: =D2 -> Número de Identificación del Tercero | E14: =E2 -> Primer apellido | F14: =F2 -> Segundo apellido | G14: =G2 -> Primer nombre | H14: =H2 -> Otros nombres | I14: =I2 -> Razón Social | ... P14: =P2 -> Valor del descuento tributario efectivamente solicitado en el año gravable
A18: =CONCATENATE(B18,"|",C18,"|",D18) -> ||
C23: Los resaltados en color verde son conceptos nuevos para este año gravable 2025
B24: Conceptos
B25: 8303 | C25: Descuento tributario por impuestos pagados en el exterior solicitado como descuento por los contribuyentes nacionales que perciban rentas de fuente extranjera. E.T., art. 254.
B26: 8305 | C26: Descuento tributario empresas de servicios públicos domiciliarios que presten servicios de acueducto y alcantarillado. L. 788/2002, art. 104.
B27: 8316 | C27: Descuento tributario por donaciones dirigida a programas de becas o créditos condonables. E.T. Art. 256, Parágrafo 2, num. i)
B28: 8317 | C28: Descuento tributario por inversiones en investigación, desarrollo tecnológico e innovación. E.T., art. 256,modificado L 2277/2022 art 21
B29: 8318 | C29: Descuento por donaciones efectuadas a entidades sin ánimo de lucro pertenecientes al régimen tributario especial. E.T., art. 257, creado L.1819/2016, art. 105.
B30: 8319 | C30: Descuento tributario por donaciones efectuadas a entidades sin ánimo de lucro no contribuyentes de que tratan los artículos 22 y 23 del estatuto tributario. E.T., art. 257, creado L. 1819/2016, art. 105.
B31: 8320 | C31: Descuento tributario para inversiones realizadas en control, conservación y mejoramiento del medio ambiente. E.T., Art. 255, creado L. 1819/2016, art. 103.
B32: 8321 | C32: Descuento tributario por donaciones en la red nacional de bibliotecas públicas y biblioteca nacional E.T., art. 257, parágrafo, creado L. 1819/2016, art. 105.
B33: 8322 | C33: Descuento tributario por donaciones a favor del fondo para reparación de víctimas. Art 177, y DUR 1084 de 2015 , art. 2.2.10.6.
B34: 8323 | C34: Descuento tributario por impuestos pagados en el exterior por la Entidad controlada del Exterior (ECE). E.T., art.892, adicionado L 1819/2016, art. 139.
B35: 8324 | C35: Descuento tributario por donación a la Corporación General Gustavo Matamoros D’ Costa y demás fundaciones dedicadas a la defensa, protección de derechos humanos. E.T., art 126-2, inciso 1
B36: 8325 | C36: Descuento tributario por donación a organismos de deporte aficionado. E.T., art. 126- 2, inciso. 2.
... B49: 8340 | C49: Descuento tributario por donaciones efectuadas a bancos de alimentos y entidades sin ánimo de lucro, pertenecientes al Régimen Tributario Especial. E.T., Art 257 par. 1, adicionado Ley 2380/2024. No incluir esta información en el concepto 8318
B53: Concepto que ya no aplica para este alo gravable 2025. No usar
B54: 8330 | C54: Descuento tributario por impuesto de industria, comercio, avisos y tableros. E.T., art. 115 del E.T.

Sheet F1005
A1: 11 | B1: *24 | C1: *25 | D1: 26 | E1: 27 | F1: 28 | G1: 29 | H1: 30 | I1: 31 | J1: 32 | K1: 33 | L1: 34
A2: 15 | B2: Tipo de documento | C2: Número identificación | D2: DV | E2: Primer apellido del informado | F2: Segundo apellido del informado | G2: Primer nombre del informado | H2: Otros nombres del informado | I2: Razón social informado | J2: Impuesto Descontable | K2: IVA resultante por devoluciones en ventas anuladas, rescindidas o resueltas | L2: IVA tratado como mayor valor del costo o gasto (Art.490 E.T)
A3: 15 | B3: N | C3: A | D3: N | E3: A | F3: A | G3: A | H3: A | I3: A | J3: N | K3: N | L3: N
B4: 2 | C4: 20 | D4: 1 | E4: 60 | F4: 60 | G4: 60 | H4: 60 | I4: 450 | J4: 18 | K4: 18 | L4: 18
A5: B | B5: S | C5: S | D5: N | E5: N | F5: N | G5: N | H5: N | I5: N | J5: S | K5: S | L5: N
A6: 3 | B6: DTiposDocto
B7: Seleccione el tipo de documento de identificación del tercero y/o proveedor que le facturó el correspondiente impuesto a las ventas. Cuando vaya a informar a personas o entidades del exterior que posean Número, Código o Clave Fiscal, Utilice 42, de lo contrario utilice el tipo de documento 43. | C7: Indique el número de identificación que corresponda al beneficiario del pago informado. Si es por cuantías menores indique el Nit 222222222. Cuando sean transacciones con personas o entidades del exterior que no posea Número, Código o Clave Fiscal deberá informarse con Nit 444444001 aumentando en una unidad cada relacionado hasta el 444449999. | D7: Si el número de identificación informado es un NIT, relacione el dígito de verificación respectivo. | E7: Indique el primer apellido del proveedor y/o tercero informado. Si es una persona jurídica, deje este espacio en blanco. | F7: Indique el segundo apellido del proveedor y/o tercero informado. Si no tiene segundo apellido o es una persona jurídica, deje este espacio en blanco. | G7: Indique el primer nombre del proveedor y/o tercero informado. Si es una persona jurídica, deje este espacio en blanco. | H7: Indique el segundo nombre u otros nombres del proveedor y/o tercero informado. Si no tiene más nombres o es una persona jurídica, deje este espacio en blanco. | I7: Indique la razón social del tercero y/o proveedor informado. Si es una persona natural, deje la casilla en blanco. Utilice la razón social o nombre que corresponda para Nits 444444001 en adelante. | J7: Informe el valor del Impuesto a las ventas por pagar Descontable. | K7: Informe el valor del IVA Resultante por Devoluciones en Ventas Anuladas, Rescindidas o Resultas. | L7: Informe el valor del IVA tratado como mayor valor del costo o gasto (Art.490 E.T).
A8: ColPadre
A9: ValEsp | C9: E0151 | D9: E0012 | E9: E0141(31) | F9: E0143 | G9: E0141(31) | H9: E0143 | I9: E0142(27|29) | J9: E0118 | K9: E0122(Impuesto Descontable) | L9: E0103
A10: impventas | B10: tdoc | C10: nid | D10: dv | E10: apl1 | F10: apl2 | G10: nom1 | H10: nom2 | I10: raz | J10: vimp | K10: ivade | L10: ivavcg
D11: 1005 Impuesto a las ventas por pagar (Descontable)
B14: =B2 -> Tipo de documento | C14: =C2 -> Número identificación | D14: =D2 -> DV | E14: =E2 -> Primer apellido del informado | F14: =F2 -> Segundo apellido del informado | G14: =G2 -> Primer nombre del informado | H14: =H2 -> Otros nombres del informado | I14: =I2 -> Razón social informado | J14: Impuesto Descontable | K14: =K2 -> IVA resultante por devoluciones en ventas anuladas, rescindidas o resueltas | L14: =L2 -> IVA tratado como mayor valor del costo o gasto (Art.490 E.T) | M14: |Tipo de documento - Este campo debe ser numérico mayor a 0, no utilice puntos(.), ni comas(,) - La longitud excede el maximo de 2 caracteres. - El código diligenciado no coincide con la tabla.|Número identificación - La longitud excede el maximo de 20 caracteres. - El campo debe ser numérico, no utilice puntos(.), ni comas(,)|DV - La longitud excede el maximo de 1 caracter. - El Digito de Verificación solamente se debe diligenciar si el Tipo de Documento 31 - NIT|Impuesto Descontable - Este campo debe ser numérico mayor a 0, no utilice puntos(.), ni comas(,) - El campo debe ser numérico, no utilice puntos(.), ni comas(,).|IVA resultante por devoluciones en ventas anuladas, rescindidas o resueltas - Este campo debe ser numérico mayor a 0, no utilice puntos(.), ni comas(,) - La longitud excede el maximo de 20 caracteres.
J18: =SUM(J15:J17) -> 0
B22: en operaciones con entidades o sociedades del exterior, al reportar el número de identificación se debe diligenciar con el número, código o clave de identificación, tal como figura en el registro fiscal tributario del país de residencia o domicilio y tipo de documento 42.
B25: Cuando en dicho país no se utilice número, código o clave fiscal, se debe informar con identificación 444444001 en forma ascendente, variando consecutivamente en una unidad hasta el 444449999 y con tipo de documento 43.
B29: Tipos de documentos
B30: 11 | C30: Registro civil de nacimiento
B31: 12 | C31: Tarjeta de identidad
B32: 13 | C32: Cédula de ciudadanía
B33: 21 | C33: Tarjeta de extranjería
B34: 22 | C34: Cédula de extranjería
B35: 31 | C35: Nit
B36: 41 | C36: Pasaporte
B37: 42 | C37: Tipo de documento Extranjero
B38: 43 | C38: Sin identificación del exterior o para uso definido por la DIAN
B39: 47 | C39: Permiso Especial de Permanencia
B40: 48 | C40: Permiso por Protección Temporal

Sheet F1006
A1: 11 | B1: *24 | C1: *25 | D1: 26 | E1: 27 | F1: 28 | G1: 29 | H1: 30 | I1: 31 | J1: 32 | K1: 33 | L1: 34 | M1: |Tipo de documento - Este campo debe ser numérico mayor a 0, no utilice puntos(.), ni comas(,) - La longitud excede el maximo de 2 caracteres. - El código diligenciado no coincide con la tabla.|Número identificación - El campo debe ser numérico, no utilice puntos(.), ni comas(,)|DV - La longitud excede el maximo de 1 caracter. - El Digito de Verificación solamente se debe diligenciar si el Tipo de Documento 31 - NIT|Razón social informado - Para Tipos de Documento diferentes de 31,42 y 43 en este Formato, esta casilla NO se debe diligenciar.
A2: 15 | B2: Tipo de Documento | C2: Número identificación | D2: DV | E2: Primer apellido del informado | F2: Segundo apellido del informado | G2: Primer nombre del informado | H2: Otros nombres del informado | I2: Razón social informado | J2: Impuesto generado | K2: IVA recuperado en devoluciones en compras anuladas. rescindidas o resueltas | L2: Impuesto nacional al consumo | M2: |TIPO DE DOCUMENTO - Este campo debe ser numérico mayor a 0, no utilice puntos(.), ni comas(,) - La longitud excede el maximo de 2 caracteres. - El código diligenciado no coincide con la tabla.|Número identificación - La longitud excede el maximo de 20 caracteres. - El campo debe ser numérico, no utilice puntos(.), ni comas(,)|DV - Este campo debe ser numérico mayor a 0, no utilice puntos(.), ni comas(,) - La longitud excede el maximo de 1 caracter. - El Digito de Verificación solamente se debe diligenciar si el Tipo de Documento 31 - NIT|Razón social informado - Para Tipos de Documento diferentes de 31,42 y 43 en este Formato, esta casilla NO se debe diligenciar.|Impuesto generado - Este campo debe ser numérico mayor a 0, no utilice puntos(.), ni comas(,) - El valor ingresado no es numerico.|IVA recuperado en devoluciones en compras anuladas. rescindidas o resueltas - Este campo debe ser numérico mayor a 0, no utilice puntos(.), ni comas(,) - La longitud excede el maximo de 20 caracteres.|Impuesto al consumo - Este campo debe ser numérico mayor a 0, no utilice puntos(.), ni comas(,)
A3: 15 | B3: N | C3: A | D3: N | E3: A | F3: A | G3: A | H3: A | I3: A | J3: N | K3: N | L3: N | M3: |TIPO DE DOCUMENTO - Este campo debe ser numérico mayor a 0, no utilice puntos(.), ni comas(,) - El código diligenciado no coincide con la tabla.|Número identificación - El campo debe ser numérico, no utilice puntos(.), ni comas(,)|DV - Este campo debe ser numérico mayor a 0, no utilice puntos(.), ni comas(,) - El Digito de Verificación solamente se debe diligenciar si el Tipo de Documento 31 - NIT|Razón social informado - Para Tipos de Documento diferentes de 31,42 y 43 en este Formato, esta casilla NO se debe diligenciar.|Impuesto generado - Este campo debe ser numérico mayor a 0, no utilice puntos(.), ni comas(,) - El valor ingresado no es numerico.|IVA recuperado en devoluciones en compras anuladas. rescindidas o resueltas - Este campo debe ser numérico mayor a 0, no utilice puntos(.), ni comas(,)|Impuesto al consumo - Este campo debe ser numérico mayor a 0, no utilice puntos(.), ni comas(,)
B4: 2 | C4: 20 | D4: 1 | E4: 60 | F4: 60 | G4: 60 | H4: 60 | I4: 450 | J4: 20 | K4: 20 | L4: 20 | M4: |TIPO DE DOCUMENTO - El código diligenciado no coincide con la tabla.|DV - El Digito de Verificación solamente se debe diligenciar si el Tipo de Documento 31 - NIT|Razón social informado - Para Tipos de Documento diferentes de 31,42 y 43 en este Formato, esta casilla NO se debe diligenciar.
A5: B | B5: S | C5: S | D5: N | E5: N | F5: N | G5: N | H5: N | I5: N | J5: S | K5: S | L5: S | M5: |TIPO DE DOCUMENTO - Este campo debe ser numérico mayor a 0, no utilice puntos(.), ni comas(,) - El código diligenciado no coincide con la tabla.|Número identificación - El campo debe ser numérico, no utilice puntos(.), ni comas(,)|DV - Este campo debe ser numérico mayor a 0, no utilice puntos(.), ni comas(,) - El Digito de Verificación solamente se debe diligenciar si el Tipo de Documento 31 - NIT|Razón social informado - Para Tipos de Documento diferentes de 31,42 y 43 en este Formato, esta casilla NO se debe diligenciar.|Impuesto generado - Este campo debe ser numérico mayor a 0, no utilice puntos(.), ni comas(,) - El valor ingresado no es numerico.|IVA recuperado en devoluciones en compras anuladas. rescindidas o resueltas - Este campo debe ser numérico mayor a 0, no utilice puntos(.), ni comas(,)|Impuesto al consumo - Este campo debe ser numérico mayor a 0, no utilice puntos(.), ni comas(,)
A6: 3 | B6: DTIPOSDOCTO | M6: |TIPO DE DOCUMENTO - Este campo debe ser numérico mayor a 0, no utilice puntos(.), ni comas(,) - La longitud excede el maximo de 2 caracteres. - El código diligenciado no coincide con la tabla.|Número identificación - Este campo es obligatorio|Primer apellido del informado - Tipos de Documento diferentes a 31 y a 43, las casillas de Apellidos y Nombres son obligatorias.|Primer nombre del informado - Tipos de Documento diferentes a 31 y a 43, las casillas de Apellidos y Nombres son obligatorias.|Impuesto generado - Este campo es obligatorio|IVA recuperado en devoluciones en compras anuladas. rescindidas o resueltas - Este campo es obligatorio - La casilla Impuesto generado y la casilla IVA recuperado en devoluciones en compras anuladas. rescindidas o resueltas no pueden ir en cero (0) al mismo tiempo.|Impuesto al consumo - Este campo es obligatorio
B7: Seleccione el tipo de documento de identificación del cliente y/o tercero a quien le facturó el correspondiente impuesto a las ventas. Cuando vaya a informar cuantías menores ó transacciones con personas o entidades del exterior que no posea número. Código o clave fiscal. Utilice el tipo de documento 43 | C7: Indique el número de identificación que corresponda al beneficiario del pago informado. Si es por cuantías menores indique el Nit 222222222. Cuando sean transacciones con personas o entidades del exterior que no posea Número, Código o Clave Fiscal deberá informarse con Nit 444444001 aumentando en una unidad cada relacionado hasta el 444449999. | D7: Si el número de identificación informado es un NIT. relacione el dígito de verificación respectivo. | E7: Indique el primer apellido del cliente y/o tercero informado. Si es una persona jurídica, deje este espacio en blanco. | F7: Indique el segundo apellido del cliente y/o tercero informado. Si no tiene segundo apellido o es una persona jurídica, deje este espacio en blanco. | G7: Indique el primer nombre del cliente y/o tercero informado. Si es una persona jurídica, deje este espacio en blanco. | H7: Indique el segundo nombre u otros nombres del cliente y/o tercero informado. Si no tiene más nombres o es una persona jurídica, deje este espacio en blanco. | I7: Informe la razón social del cliente y/o tercero informado. Si es una persona natural, deje la casilla en blanco. Utilice "Cuantías menores" para el Nit 222222222. | J7: Informe el Valor de Impuesto a las ventas por pagar Generado. | K7: Informe el valor del IVA Recuperado en Devoluciones en Compras Anuladas. Rescendidas o Resueltas. | L7: Informe el Valor de Impuesto nacional al consumo | M7: |TIPO DE DOCUMENTO - Este campo debe ser numérico mayor a 0, no utilice puntos(.), ni comas(,) - La longitud excede el maximo de 2 caracteres.|Número identificación - La longitud excede el maximo de 20 caracteres. - El campo debe ser numérico, no utilice puntos(.), ni comas(,)|DV - Este campo debe ser numérico mayor a 0, no utilice puntos(.), ni comas(,) - La longitud excede el maximo de 1 caracter. - El Digito de Verificación solamente se debe diligenciar si el Tipo de Documento 31 - NIT|Primer apellido del informado - La longitud excede el maximo de 60 caracteres.|Segundo apellido del informado - La longitud excede el maximo de 60 caracteres.|Primer nombre del informado - La longitud excede el maximo de 60 caracteres.|Otros nombres del informado - La longitud excede el maximo de 60 caracteres.|Razón social informado - Para Tipos de Documento diferentes de 31,42 y 43 en este Formato, esta casilla NO se debe diligenciar.|Impuesto generado - Este campo debe ser numérico mayor a 0, no utilice puntos(.), ni comas(,) - La longitud excede el maximo de 20 caracteres. - El valor ingresado no es numerico.|IVA recuperado en devoluciones en compras anuladas. rescindidas o resueltas - Este campo debe ser numérico mayor a 0, no utilice puntos(.), ni comas(,) - La longitud excede el maximo de 20 caracteres.|Impuesto al consumo - Este campo es obligatorio
A8: ColPadre | M8: |TIPO DE DOCUMENTO - Este campo es obligatorio|Número identificación - Este campo es obligatorio|Primer apellido del informado - Tipos de Documento diferentes a 31 y a 43, las casillas de Apellidos y Nombres son obligatorias.|Primer nombre del informado - Tipos de Documento diferentes a 31 y a 43, las casillas de Apellidos y Nombres son obligatorias.|Impuesto generado - Este campo es obligatorio|IVA recuperado en devoluciones en compras anuladas. rescindidas o resueltas - Este campo es obligatorio - La casilla Impuesto generado y la casilla IVA recuperado en devoluciones en compras anuladas. rescindidas o resueltas no pueden ir en cero (0) al mismo tiempo.|Impuesto al consumo - Este campo es obligatorio
A9: ValEsp | C9: E0064 | D9: E0012 | E9: E0141(31) | F9: E0143 | G9: E0141(31) | H9: E0143 | I9: E0142(27|29) | J9: E0118 | K9: E0130(32|34) | L9: E0118 | M9: |TIPO DE DOCUMENTO - Este campo es obligatorio|Número identificación - El campo debe ser numérico, no utilice puntos(.), ni comas(,)|DV - Este campo debe ser numérico mayor a 0, no utilice puntos(.), ni comas(,) - La longitud excede el maximo de 1 caracter. - El Digito de Verificación solamente se debe diligenciar si el Tipo de Documento 31 - NIT|Razón social informado - Para Tipos de Documento diferentes de 31,42 y 43 en este Formato, esta casilla NO se debe diligenciar.|Impuesto generado - Este campo debe ser numérico mayor a 0, no utilice puntos(.), ni comas(,) - El valor ingresado no es numerico.|IVA recuperado en devoluciones en compras anuladas. rescindidas o resueltas - Este campo debe ser numérico mayor a 0, no utilice puntos(.), ni comas(,) - La longitud excede el maximo de 20 caracteres.|Impuesto al consumo - Este campo es obligatorio
A10: impoventas | B10: tdoc | C10: nid | D10: dv | E10: apl1 | F10: apl2 | G10: nom1 | H10: nom2 | I10: raz | J10: imp | K10: iva | L10: icon | M10: |TIPO DE DOCUMENTO - Este campo debe ser numérico mayor a 0, no utilice puntos(.), ni comas(,) - La longitud excede el maximo de 2 caracteres. - El código diligenciado no coincide con la tabla.|Número identificación - El campo debe ser numérico, no utilice puntos(.), ni comas(,)|DV - Este campo debe ser numérico mayor a 0, no utilice puntos(.), ni comas(,) - La longitud excede el maximo de 1 caracter. - El Digito de Verificación solamente se debe diligenciar si el Tipo de Documento 31 - NIT|Razón social informado - Para Tipos de Documento diferentes de 31,42 y 43 en este Formato, esta casilla NO se debe diligenciar.|Impuesto generado - Este campo debe ser numérico mayor a 0, no utilice puntos(.), ni comas(,) - El valor ingresado no es numerico.|IVA recuperado en devoluciones en compras anuladas. rescindidas o resueltas - Este campo debe ser numérico mayor a 0, no utilice puntos(.), ni comas(,)|Impuesto al consumo - Este campo es obligatorio
D11: 1006 Impuestos a las Ventas por Pagar (Generado) e Impuesto al Consumo
B14: =B2 -> Tipo de Documento | C14: =C2 -> Número identificación | D14: DV | E14: =E2 -> Primer apellido del informado | F14: =F2 -> Segundo apellido del informado | G14: =G2 -> Primer nombre del informado | H14: =H2 -> Otros nombres del informado | I14: =I2 -> Razón social informado | J14: Impuesto generado | K14: IVA recuperado en devoluciones en compras anuladas. rescindidas o resueltas | L14: Impuesto al consumo | M14: |Tipo de documento - Este campo debe ser numérico mayor a 0, no utilice puntos(.), ni comas(,) - La longitud excede el maximo de 2 caracteres. - El código diligenciado no coincide con la tabla.|Número identificación - La longitud excede el maximo de 20 caracteres. - El campo debe ser numérico, no utilice puntos(.), ni comas(,)|DV - Este campo debe ser numérico mayor a 0, no utilice puntos(.), ni comas(,) - La longitud excede el maximo de 1 caracter. - El Digito de Verificación solamente se debe diligenciar si el Tipo de Documento 31 - NIT|Razón social informado - Para Tipos de Documento diferentes de 31,42 y 43 en este Formato, esta casilla NO se debe diligenciar.|Impuesto generado - Este campo debe ser numérico mayor a 0, no utilice puntos(.), ni comas(,) - El valor ingresado no es numerico.|IVA recuperado en devoluciones en compras anuladas, rescindidas o resueltas - Este campo debe ser numérico mayor a 0, no utilice puntos(.), ni comas(,) - La longitud excede el maximo de 20 caracteres.|Impuesto al consumo - Este campo debe ser numérico mayor a 0, no utilice puntos(.), ni comas(,)
A17: =CONCATENATE(B17,"|",C17) -> | | K17: 0 | L17: 0
B23: En operaciones donde no sea posible identificar al adquirente, se informarán acumulados en un solo registro con identificación 222222222, razón social “CUANTÍAS MENORES y tipo documento 43, en el concepto a que corresponda
B26: Tipos de documentos
B27: 11 | C27: Registro civil de nacimiento
B28: 12 | C28: Tarjeta de identidad
B29: 13 | C29: Cédula de ciudadanía
B30: 21 | C30: Tarjeta de extranjería
B31: 22 | C31: Cédula de extranjería
B32: 31 | C32: Nit
B33: 41 | C33: Pasaporte
B34: 42 | C34: Tipo de documento Extranjero
B35: 43 | C35: Sin identificación del exterior o para uso definido por la DIAN
B36: 47 | C36: Permiso Especial de Permanencia
B37: 48 | C37: Permiso por Protección Temporal

Sheet F1007
A1: 11 | B1: *24 | C1: *25 | D1: *26 | E1: 27 | F1: 28 | G1: 29 | H1: 30 | I1: 31 | J1: 32 | K1: 33 | L1: 34
A2: 15 | B2: Concepto | C2: Tipo de documento | D2: Número identificación | E2: Primer apellido del informado | F2: Segundo apellido del informado | G2: Primer nombre del informado | H2: Otros nombres del informado | I2: Razón social informado | J2: País de Residencia o domicilio | K2: Ingresos brutos recibidos | L2: Devoluciones, rebajas y descuentos
A3: 15 | B3: N | C3: N | D3: A | E3: A | F3: A | G3: A | H3: A | I3: A | J3: N | K3: N | L3: N
B4: 4 | C4: 2 | D4: 20 | E4: 60 | F4: 60 | G4: 60 | H4: 60 | I4: 450 | J4: 4 | K4: 18 | L4: 18
A5: B | B5: S | C5: S | D5: S | E5: N | F5: N | G5: N | H5: N | I5: N | J5: S | K5: S | L5: S
A6: 4 | B6: DConcepto_F1007_V9 | C6: DTiposDocto | J6: D_2_107
B7: Seleccione el concepto a que correspondan los ingresos recibidos. | C7: Seleccione el tipo de documento de identificación que posea la persona o entidad de quien se recibió el correspondiente ingreso. Cuando vaya a informar cuantías menores o personas o entidades del exterior, Utilice el tipo de Documento 43. Si la Persona o Entidad del exterior, tiene Número, Código o Clave Fiscal, Utilice 42. | D7: Indique el número de identificación que corresponda al beneficiario del pago informado. Si es por cuantías menores indique el Nit 222222222. Cuando sean transacciones con personas o entidades del exterior que no posea Número, Código o Clave Fiscal deberá informarse con Nit 444444001 aumentando en una unidad cada relacionado hasta el 444449999. | E7: Indique el primer apellido del cliente y/o tercero de quien se obtuvo el ingreso. Si es una persona jurídica, deje este espacio en blanco. | F7: Indique el segundo apellido del cliente y/o tercero de quien se obtuvo el ingreso. Si no tiene segundo apellido o es una persona jurídica, deje esta casilla en blanco. | G7: Indique el primer nombre del cliente y/o tercero de quien se recibió el ingreso. Si es una persona jurídica, deje este espacio en blanco. | H7: Indique el segundo nombre u otros nombres del cliente y/o tercero de quien se recibió el ingreso. Si no tiene más nombres o es una persona jurídica, deje este espacio en blanco. | I7: Relacione la razón social del cliente o tercero de quien generó el ingreso. Si es una persona natural, deje esta casilla en blanco. Utilice "Cuantías menores" cuando el Nit sea 222222222, y la razón social o nombre que corresponda para Nits 444444001 en adelante. | J7: Seleccione el código del país al cual pertenece el informado. | K7: Informe el Valor de los Ingresos Brutos recibidos. | L7: Informe el valor de las Devoluciones , Rebajas y Descuentos.
A8: ColPadre
A9: ValEsp | D9: E0064 | E9: E0141(31) | F9: E0143 | G9: E0141(31) | H9: E0143 | I9: E0142(27|29) | J9: E0087 | K9: E0130(34) | L9: E0118 | M9: |Concepto - Este campo es obligatorio|Tipo de documento - Este campo es obligatorio|Número identificación del informado - El campo debe ser numérico, no utilice puntos(.), ni comas(,)|DV - Este campo debe ser numérico mayor o igual a 0, no utilice puntos(.), ni comas(,) - La longitud excede el maximo de 1 caracter. - El Digito de Verificación solamente se debe diligenciar si el Tipo de Documento 31 - NIT|País de Residencia o domicilio - Este campo debe ser numérico mayor o igual a 0, no utilice puntos(.), ni comas(,) - La longitud excede el maximo de 3 caracteres. - El código diligenciado no coincide con la tabla.|Ingresos brutos recibidos por operaciones propias - Este campo debe ser numérico mayor o igual a 0, no utilice puntos(.), ni comas(,) - La longitud excede el maximo de 20 caracteres.|Ingresos brutos a través de Consorcio o Uniones Temporales - Este campo debe ser numérico mayor o igual a 0, no utilice puntos(.), ni comas(,) - La longitud excede el maximo de 20 caracteres.|Ingresos a tavés de Contratos de mandato o administración delegada - Este campo debe ser numérico mayor o igual a 0, no utilice puntos(.), ni comas(,) - La longitud excede el maximo de 20 caracteres.|Ingresos a través de exploración y explotación de minerales - Este campo debe ser numérico mayor o igual a 0, no utilice puntos(.), ni comas(,) - La longitud excede el maximo de 20 caracteres.|Ingresos a través de fiducia - Este campo debe ser numérico mayor o igual a 0, no utilice puntos(.), ni comas(,) - La longitud excede el maximo de 20 caracteres.|Ingresos recibidos a través de terceros - Este campo debe ser numérico mayor o igual a 0, no utilice puntos(.), ni comas(,) - La longitud excede el maximo de 20 caracteres.|Devoluciones, rebajas y descuentos - Este campo debe ser numérico mayor o igual a 0, no utilice puntos(.), ni comas(,) - La longitud excede el maximo de 20 caracteres.
A10: ingresos | B10: cpt | C10: tdoc | D10: nid | E10: apl1 | F10: apl2 | G10: nom1 | H10: nom2 | I10: raz | J10: pais | K10: ibru | L10: dred
D11: 1007 Ingresos Recibidos
